Workbook

Sheet 業務の棚卸し
A1: 業務の棚卸し・マニュアル化の優先度
A2: 業務を1行に1つ書き、C〜H列を一覧から選ぶと、点数・優先度・マニュアルの形式の目安が自動で入ります。点数の基準は「点数の基準」シートにあります。jp.klang.ai/guides/manual-creation/ の優先度ツールと同じ計算です。区切り（9点以上A、6点以上B）は目安なので、自社の事情に合わせて変えてください。
A4: 業務名 | B4: 担当者 | C4: 業務の種類 | D4: 頻度 | E4: できる人の数 | F4: ミスしたときの影響 | G4: 異動・退職・新人の予定 | H4: 手順の変わりやすさ | I4: 点数 | J4: 優先度 | K4: マニュアルの形式（目安） | L4: 状態
A5: 新規取引先の登録 | B5: 高橋 | C5: 画面操作（システム・ツール） | D5: 毎日 | E5: 1人だけ | F5: 大きい（顧客・金銭・法令） | G5: 半年以内にある | H5: 安定している | I5: =IF(COUNTA(D5:H5)<5,"",VLOOKUP(D5,'点数の基準'!$B$4:$C$18,2,FALSE)+VLOOKUP(E5,'点数の基準'!$B$4:$C$18,2,FALSE)+VLOOKUP(F5,'点数の基準'!$B$4:$C$18,2,FALSE)+VLOOKUP(G5,'点数の基準'!$B$4:$C$18,2,FALSE)+VLOOKUP(H5,'点数の基準'!$B$4:$C$18,2,FALSE)) | J5: =IF(I5="","",IF(I5>=9,"A 今すぐマニュアル化",IF(I5>=6,"B 次の候補","C チェックリストで十分／後回し"))) | K5: =IF(C5="","",IFERROR(VLOOKUP(C5,'点数の基準'!$A$21:$B$24,2,FALSE),""))
A6: 展示会ブースの設営 | B6: 佐藤 | C6: 手作業・機器や現物の操作 | D6: 年に数回 | E6: 2人 | F6: 中くらい（社内のやり直し） | G6: 今はない | H6: ときどき変わる | I6: =IF(COUNTA(D6:H6)<5,"",VLOOKUP(D6,'点数の基準'!$B$4:$C$18,2,FALSE)+VLOOKUP(E6,'点数の基準'!$B$4:$C$18,2,FALSE)+VLOOKUP(F6,'点数の基準'!$B$4:$C$18,2,FALSE)+VLOOKUP(G6,'点数の基準'!$B$4:$C$18,2,FALSE)+VLOOKUP(H6,'点数の基準'!$B$4:$C$18,2,FALSE)) | J6: =IF(I6="","",IF(I6>=9,"A 今すぐマニュアル化",IF(I6>=6,"B 次の候補","C チェックリストで十分／後回し"))) | K6: =IF(C6="","",IFERROR(VLOOKUP(C6,'点数の基準'!$A$21:$B$24,2,FALSE),""))
A7: 料金に関する問い合わせへの回答 | B7: 石田 | C7: 判断・対応が中心（問い合わせ対応など） | D7: 毎日 | E7: 3人以上 | F7: 大きい（顧客・金銭・法令） | G7: 半年以内にある | H7: 近いうちに大きく変わる | I7: =IF(COUNTA(D7:H7)<5,"",VLOOKUP(D7,'点数の基準'!$B$4:$C$18,2,FALSE)+VLOOKUP(E7,'点数の基準'!$B$4:$C$18,2,FALSE)+VLOOKUP(F7,'点数の基準'!$B$4:$C$18,2,FALSE)+VLOOKUP(G7,'点数の基準'!$B$4:$C$18,2,FALSE)+VLOOKUP(H7,'点数の基準'!$B$4:$C$18,2,FALSE)) | J7: =IF(I7="","",IF(I7>=9,"A 今すぐマニュアル化",IF(I7>=6,"B 次の候補","C チェックリストで十分／後回し"))) | K7: =IF(C7="","",IFERROR(VLOOKUP(C7,'点数の基準'!$A$21:$B$24,2,FALSE),""))
I8: =IF(COUNTA(D8:H8)<5,"",VLOOKUP(D8,'点数の基準'!$B$4:$C$18,2,FALSE)+VLOOKUP(E8,'点数の基準'!$B$4:$C$18,2,FALSE)+VLOOKUP(F8,'点数の基準'!$B$4:$C$18,2,FALSE)+VLOOKUP(G8,'点数の基準'!$B$4:$C$18,2,FALSE)+VLOOKUP(H8,'点数の基準'!$B$4:$C$18,2,FALSE)) | J8: =IF(I8="","",IF(I8>=9,"A 今すぐマニュアル化",IF(I8>=6,"B 次の候補","C チェックリストで十分／後回し"))) | K8: =IF(C8="","",IFERROR(VLOOKUP(C8,'点数の基準'!$A$21:$B$24,2,FALSE),""))
I9: =IF(COUNTA(D9:H9)<5,"",VLOOKUP(D9,'点数の基準'!$B$4:$C$18,2,FALSE)+VLOOKUP(E9,'点数の基準'!$B$4:$C$18,2,FALSE)+VLOOKUP(F9,'点数の基準'!$B$4:$C$18,2,FALSE)+VLOOKUP(G9,'点数の基準'!$B$4:$C$18,2,FALSE)+VLOOKUP(H9,'点数の基準'!$B$4:$C$18,2,FALSE)) | J9: =IF(I9="","",IF(I9>=9,"A 今すぐマニュアル化",IF(I9>=6,"B 次の候補","C チェックリストで十分／後回し"))) | K9: =IF(C9="","",IFERROR(VLOOKUP(C9,'点数の基準'!$A$21:$B$24,2,FALSE),""))
I10: =IF(COUNTA(D10:H10)<5,"",VLOOKUP(D10,'点数の基準'!$B$4:$C$18,2,FALSE)+VLOOKUP(E10,'点数の基準'!$B$4:$C$18,2,FALSE)+VLOOKUP(F10,'点数の基準'!$B$4:$C$18,2,FALSE)+VLOOKUP(G10,'点数の基準'!$B$4:$C$18,2,FALSE)+VLOOKUP(H10,'点数の基準'!$B$4:$C$18,2,FALSE)) | J10: =IF(I10="","",IF(I10>=9,"A 今すぐマニュアル化",IF(I10>=6,"B 次の候補","C チェックリストで十分／後回し"))) | K10: =IF(C10="","",IFERROR(VLOOKUP(C10,'点数の基準'!$A$21:$B$24,2,FALSE),""))
I11: =IF(COUNTA(D11:H11)<5,"",VLOOKUP(D11,'点数の基準'!$B$4:$C$18,2,FALSE)+VLOOKUP(E11,'点数の基準'!$B$4:$C$18,2,FALSE)+VLOOKUP(F11,'点数の基準'!$B$4:$C$18,2,FALSE)+VLOOKUP(G11,'点数の基準'!$B$4:$C$18,2,FALSE)+VLOOKUP(H11,'点数の基準'!$B$4:$C$18,2,FALSE)) | J11: =IF(I11="","",IF(I11>=9,"A 今すぐマニュアル化",IF(I11>=6,"B 次の候補","C チェックリストで十分／後回し"))) | K11: =IF(C11="","",IFERROR(VLOOKUP(C11,'点数の基準'!$A$21:$B$24,2,FALSE),""))
I12: =IF(COUNTA(D12:H12)<5,"",VLOOKUP(D12,'点数の基準'!$B$4:$C$18,2,FALSE)+VLOOKUP(E12,'点数の基準'!$B$4:$C$18,2,FALSE)+VLOOKUP(F12,'点数の基準'!$B$4:$C$18,2,FALSE)+VLOOKUP(G12,'点数の基準'!$B$4:$C$18,2,FALSE)+VLOOKUP(H12,'点数の基準'!$B$4:$C$18,2,FALSE)) | J12: =IF(I12="","",IF(I12>=9,"A 今すぐマニュアル化",IF(I12>=6,"B 次の候補","C チェックリストで十分／後回し"))) | K12: =IF(C12="","",IFERROR(VLOOKUP(C12,'点数の基準'!$A$21:$B$24,2,FALSE),""))
I13: =IF(COUNTA(D13:H13)<5,"",VLOOKUP(D13,'点数の基準'!$B$4:$C$18,2,FALSE)+VLOOKUP(E13,'点数の基準'!$B$4:$C$18,2,FALSE)+VLOOKUP(F13,'点数の基準'!$B$4:$C$18,2,FALSE)+VLOOKUP(G13,'点数の基準'!$B$4:$C$18,2,FALSE)+VLOOKUP(H13,'点数の基準'!$B$4:$C$18,2,FALSE)) | J13: =IF(I13="","",IF(I13>=9,"A 今すぐマニュアル化",IF(I13>=6,"B 次の候補","C チェックリストで十分／後回し"))) | K13: =IF(C13="","",IFERROR(VLOOKUP(C13,'点数の基準'!$A$21:$B$24,2,FALSE),""))
I14: =IF(COUNTA(D14:H14)<5,"",VLOOKUP(D14,'点数の基準'!$B$4:$C$18,2,FALSE)+VLOOKUP(E14,'点数の基準'!$B$4:$C$18,2,FALSE)+VLOOKUP(F14,'点数の基準'!$B$4:$C$18,2,FALSE)+VLOOKUP(G14,'点数の基準'!$B$4:$C$18,2,FALSE)+VLOOKUP(H14,'点数の基準'!$B$4:$C$18,2,FALSE)) | J14: =IF(I14="","",IF(I14>=9,"A 今すぐマニュアル化",IF(I14>=6,"B 次の候補","C チェックリストで十分／後回し"))) | K14: =IF(C14="","",IFERROR(VLOOKUP(C14,'点数の基準'!$A$21:$B$24,2,FALSE),""))
I15: =IF(COUNTA(D15:H15)<5,"",VLOOKUP(D15,'点数の基準'!$B$4:$C$18,2,FALSE)+VLOOKUP(E15,'点数の基準'!$B$4:$C$18,2,FALSE)+VLOOKUP(F15,'点数の基準'!$B$4:$C$18,2,FALSE)+VLOOKUP(G15,'点数の基準'!$B$4:$C$18,2,FALSE)+VLOOKUP(H15,'点数の基準'!$B$4:$C$18,2,FALSE)) | J15: =IF(I15="","",IF(I15>=9,"A 今すぐマニュアル化",IF(I15>=6,"B 次の候補","C チェックリストで十分／後回し"))) | K15: =IF(C15="","",IFERROR(VLOOKUP(C15,'点数の基準'!$A$21:$B$24,2,FALSE),""))
I16: =IF(COUNTA(D16:H16)<5,"",VLOOKUP(D16,'点数の基準'!$B$4:$C$18,2,FALSE)+VLOOKUP(E16,'点数の基準'!$B$4:$C$18,2,FALSE)+VLOOKUP(F16,'点数の基準'!$B$4:$C$18,2,FALSE)+VLOOKUP(G16,'点数の基準'!$B$4:$C$18,2,FALSE)+VLOOKUP(H16,'点数の基準'!$B$4:$C$18,2,FALSE)) | J16: =IF(I16="","",IF(I16>=9,"A 今すぐマニュアル化",IF(I16>=6,"B 次の候補","C チェックリストで十分／後回し"))) | K16: =IF(C16="","",IFERROR(VLOOKUP(C16,'点数の基準'!$A$21:$B$24,2,FALSE),""))
I17: =IF(COUNTA(D17:H17)<5,"",VLOOKUP(D17,'点数の基準'!$B$4:$C$18,2,FALSE)+VLOOKUP(E17,'点数の基準'!$B$4:$C$18,2,FALSE)+VLOOKUP(F17,'点数の基準'!$B$4:$C$18,2,FALSE)+VLOOKUP(G17,'点数の基準'!$B$4:$C$18,2,FALSE)+VLOOKUP(H17,'点数の基準'!$B$4:$C$18,2,FALSE)) | J17: =IF(I17="","",IF(I17>=9,"A 今すぐマニュアル化",IF(I17>=6,"B 次の候補","C チェックリストで十分／後回し"))) | K17: =IF(C17="","",IFERROR(VLOOKUP(C17,'点数の基準'!$A$21:$B$24,2,FALSE),""))
I18: =IF(COUNTA(D18:H18)<5,"",VLOOKUP(D18,'点数の基準'!$B$4:$C$18,2,FALSE)+VLOOKUP(E18,'点数の基準'!$B$4:$C$18,2,FALSE)+VLOOKUP(F18,'点数の基準'!$B$4:$C$18,2,FALSE)+VLOOKUP(G18,'点数の基準'!$B$4:$C$18,2,FALSE)+VLOOKUP(H18,'点数の基準'!$B$4:$C$18,2,FALSE)) | J18: =IF(I18="","",IF(I18>=9,"A 今すぐマニュアル化",IF(I18>=6,"B 次の候補","C チェックリストで十分／後回し"))) | K18: =IF(C18="","",IFERROR(VLOOKUP(C18,'点数の基準'!$A$21:$B$24,2,FALSE),""))
I19: =IF(COUNTA(D19:H19)<5,"",VLOOKUP(D19,'点数の基準'!$B$4:$C$18,2,FALSE)+VLOOKUP(E19,'点数の基準'!$B$4:$C$18,2,FALSE)+VLOOKUP(F19,'点数の基準'!$B$4:$C$18,2,FALSE)+VLOOKUP(G19,'点数の基準'!$B$4:$C$18,2,FALSE)+VLOOKUP(H19,'点数の基準'!$B$4:$C$18,2,FALSE)) | J19: =IF(I19="","",IF(I19>=9,"A 今すぐマニュアル化",IF(I19>=6,"B 次の候補","C チェックリストで十分／後回し"))) | K19: =IF(C19="","",IFERROR(VLOOKUP(C19,'点数の基準'!$A$21:$B$24,2,FALSE),""))
... I84: =IF(COUNTA(D84:H84)<5,"",VLOOKUP(D84,'点数の基準'!$B$4:$C$18,2,FALSE)+VLOOKUP(E84,'点数の基準'!$B$4:$C$18,2,FALSE)+VLOOKUP(F84,'点数の基準'!$B$4:$C$18,2,FALSE)+VLOOKUP(G84,'点数の基準'!$B$4:$C$18,2,FALSE)+VLOOKUP(H84,'点数の基準'!$B$4:$C$18,2,FALSE)) | J84: =IF(I84="","",IF(I84>=9,"A 今すぐマニュアル化",IF(I84>=6,"B 次の候補","C チェックリストで十分／後回し"))) | K84: =IF(C84="","",IFERROR(VLOOKUP(C84,'点数の基準'!$A$21:$B$24,2,FALSE),""))

Sheet 点数の基準
A1: 点数の基準
A3: 観点 | B3: 選択肢 | C3: 点数
A4: 頻度 | B4: 毎日 | C4: 3
A5: 頻度 | B5: 毎週 | C5: 2
A6: 頻度 | B6: 毎月 | C6: 2
A7: 頻度 | B7: 年に数回 | C7: 1
A8: できる人の数 | B8: 1人だけ | C8: 3
A9: できる人の数 | B9: 2人 | C9: 2
A10: できる人の数 | B10: 3人以上 | C10: 1
A11: ミスしたときの影響 | B11: 大きい（顧客・金銭・法令） | C11: 3
A12: ミスしたときの影響 | B12: 中くらい（社内のやり直し） | C12: 2
A13: ミスしたときの影響 | B13: 小さい | C13: 1
A14: 異動・退職・新人の予定 | B14: 半年以内にある | C14: 2
A15: 異動・退職・新人の予定 | B15: 今はない | C15: 0
... A18: 手順の変わりやすさ | B18: 近いうちに大きく変わる | C18: -2
A20: 業務の種類 | B20: マニュアルの形式（目安）
A21: 画面操作（システム・ツール） | B21: 画像付きの手順書。操作が10手順を超えるなら、短い画面録画を添える
A22: 手作業・機器や現物の操作 | B22: 動画マニュアル＋手元で見るチェックリスト
A23: 判断・対応が中心（問い合わせ対応など） | B23: 文章のマニュアル＋判断分岐の表＋よくある質問（FAQ）
A24: 書類・資料の作成 | B24: テンプレート＋記入例＋書き方のルール
A26: 優先度：9点以上＝A 今すぐマニュアル化、6点以上＝B 次の候補、それ未満＝C チェックリストで十分／後回し（目安）
